BEGIN:VCALENDAR
VERSION:2.0
PRODID:-//GEM Consultancy Sdn Bhd - ECPv5.14.2.1//NONSGML v1.0//EN
CALSCALE:GREGORIAN
METHOD:PUBLISH
X-WR-CALNAME:GEM Consultancy Sdn Bhd
X-ORIGINAL-URL:https://gem.com.my
X-WR-CALDESC:Events for GEM Consultancy Sdn Bhd
BEGIN:VTIMEZONE
TZID:Asia/Kuching
BEGIN:STANDARD
TZOFFSETFROM:+0800
TZOFFSETTO:+0800
TZNAME:+08
DTSTART:20260101T000000
END:STANDARD
END:VTIMEZONE
BEGIN:VEVENT
DTSTART;TZID=Asia/Kuching:20260514T090000
DTEND;TZID=Asia/Kuching:20260515T170000
DTSTAMP:20260421T200230
CREATED:20260307T114828Z
LAST-MODIFIED:20260307T114828Z
UID:8265-1778749200-1778864400@gem.com.my
SUMMARY:Advanced AI Tools: Elevating Workflow Performance & Office Capabilities (Miri\, Sarawak)
DESCRIPTION:Early bird price: RM 1\,600 (Until 30th April  2026) \nNormal price: RM 1\,800
URL:https://gem.com.my/event/advanced-ai-tools-elevating-workflow-performance-office-capabilities-miri-sarawak/
LOCATION:GEM Consultancy Miri\, Miri\, Sarawak\, 98000\, Malaysia
CATEGORIES:Public Training
END:VEVENT
END:VCALENDAR