BEGIN:VCALENDAR
VERSION:2.0
PRODID:-//GEM Consultancy Sdn Bhd - ECPv5.14.2.1//NONSGML v1.0//EN
CALSCALE:GREGORIAN
METHOD:PUBLISH
X-WR-CALNAME:GEM Consultancy Sdn Bhd
X-ORIGINAL-URL:https://gem.com.my
X-WR-CALDESC:Events for GEM Consultancy Sdn Bhd
BEGIN:VTIMEZONE
TZID:Asia/Kuching
BEGIN:STANDARD
TZOFFSETFROM:+0800
TZOFFSETTO:+0800
TZNAME:+08
DTSTART:20260101T000000
END:STANDARD
END:VTIMEZONE
BEGIN:VEVENT
DTSTART;TZID=Asia/Kuching:20260615T090000
DTEND;TZID=Asia/Kuching:20260616T170000
DTSTAMP:20260426T100109
CREATED:20260127T055142Z
LAST-MODIFIED:20260408T043644Z
UID:8212-1781514000-1781629200@gem.com.my
SUMMARY:Basic Occupational First Aid & Emergency Response Preparedness (Sibu\, Sarawak)
DESCRIPTION:Early bird price: RM 1\,200 (Until 1st June 2026) \nNormal price: RM 1\,600
URL:https://gem.com.my/event/basic-occupational-first-aid-emergency-response-preparedness-sibu-sarawak/
LOCATION:GEM Consultancy Sibu\, Sibu\, Sarawak\, Malaysia
CATEGORIES:Public Training
END:VEVENT
END:VCALENDAR