BEGIN:VCALENDAR
VERSION:2.0
PRODID:-//GEM Consultancy Sdn Bhd - ECPv5.14.2.1//NONSGML v1.0//EN
CALSCALE:GREGORIAN
METHOD:PUBLISH
X-WR-CALNAME:GEM Consultancy Sdn Bhd
X-ORIGINAL-URL:https://gem.com.my
X-WR-CALDESC:Events for GEM Consultancy Sdn Bhd
BEGIN:VTIMEZONE
TZID:Asia/Kuching
BEGIN:STANDARD
TZOFFSETFROM:+0800
TZOFFSETTO:+0800
TZNAME:+08
DTSTART:20250101T000000
END:STANDARD
END:VTIMEZONE
BEGIN:VEVENT
DTSTART;TZID=Asia/Kuching:20250923T140000
DTEND;TZID=Asia/Kuching:20250923T170000
DTSTAMP:20260420T214532
CREATED:20250910T041235Z
LAST-MODIFIED:20250910T041424Z
UID:7986-1758636000-1758646800@gem.com.my
SUMMARY:Building Mental Health Literacy At Work (Kuching\, Sarawak)
DESCRIPTION:Free Admission\, limited to 25 pax \nUnder GEM Training Week\, training by Jesynthia Wong
URL:https://gem.com.my/event/building-mental-health-literacy-at-work-kuching-sarawak/
LOCATION:GEM Consultancy Kuching\, Sarawak
CATEGORIES:Public Training
END:VEVENT
END:VCALENDAR