BEGIN:VCALENDAR
VERSION:2.0
PRODID:-//GEM Consultancy Sdn Bhd - ECPv5.14.2.1//NONSGML v1.0//EN
CALSCALE:GREGORIAN
METHOD:PUBLISH
X-WR-CALNAME:GEM Consultancy Sdn Bhd
X-ORIGINAL-URL:https://gem.com.my
X-WR-CALDESC:Events for GEM Consultancy Sdn Bhd
BEGIN:VTIMEZONE
TZID:Asia/Kuching
BEGIN:STANDARD
TZOFFSETFROM:+0800
TZOFFSETTO:+0800
TZNAME:+08
DTSTART:20260101T000000
END:STANDARD
END:VTIMEZONE
BEGIN:VEVENT
DTSTART;TZID=Asia/Kuching:20260713T090000
DTEND;TZID=Asia/Kuching:20260715T170000
DTSTAMP:20260426T002809
CREATED:20260425T114917Z
LAST-MODIFIED:20260425T115002Z
UID:8433-1783933200-1784134800@gem.com.my
SUMMARY:Certified LEONARD Personality Inventory Consultant (Kuching\, Sarawak)
DESCRIPTION:Early bird price: RM 5\,200 (Until 29th June 2026) \nNormal price: RM 5\,900
URL:https://gem.com.my/event/certified-leonard-personality-inventory-consultant-kuching-sarawak-2/
LOCATION:GEM Consultancy Kuching\, Sarawak
CATEGORIES:Public Training
END:VEVENT
END:VCALENDAR