BEGIN:VCALENDAR
VERSION:2.0
PRODID:-//GEM Consultancy Sdn Bhd - ECPv5.14.2.1//NONSGML v1.0//EN
CALSCALE:GREGORIAN
METHOD:PUBLISH
X-WR-CALNAME:GEM Consultancy Sdn Bhd
X-ORIGINAL-URL:https://gem.com.my
X-WR-CALDESC:Events for GEM Consultancy Sdn Bhd
BEGIN:VTIMEZONE
TZID:Asia/Kuching
BEGIN:STANDARD
TZOFFSETFROM:+0800
TZOFFSETTO:+0800
TZNAME:+08
DTSTART:20260101T000000
END:STANDARD
END:VTIMEZONE
BEGIN:VEVENT
DTSTART;TZID=Asia/Kuching:20260518T090000
DTEND;TZID=Asia/Kuching:20260519T170000
DTSTAMP:20260421T183903
CREATED:20260127T055022Z
LAST-MODIFIED:20260408T041254Z
UID:8210-1779094800-1779210000@gem.com.my
SUMMARY:EQ for Leadership Excellence (Bintulu\, Sarawak)
DESCRIPTION:Early bird price: RM 2\,100 (Until 4th May 2026) \nNormal price: RM 2\,900
URL:https://gem.com.my/event/eq-for-leadership-excellence-bintulu-sarawak/
LOCATION:Bintulu\, Sarawak
CATEGORIES:Public Training
END:VEVENT
END:VCALENDAR