BEGIN:VCALENDAR
VERSION:2.0
PRODID:-//GEM Consultancy Sdn Bhd - ECPv5.14.2.1//NONSGML v1.0//EN
CALSCALE:GREGORIAN
METHOD:PUBLISH
X-WR-CALNAME:GEM Consultancy Sdn Bhd
X-ORIGINAL-URL:https://gem.com.my
X-WR-CALDESC:Events for GEM Consultancy Sdn Bhd
BEGIN:VTIMEZONE
TZID:Asia/Kuching
BEGIN:STANDARD
TZOFFSETFROM:+0800
TZOFFSETTO:+0800
TZNAME:+08
DTSTART:20240101T000000
END:STANDARD
END:VTIMEZONE
BEGIN:VEVENT
DTSTART;TZID=Asia/Kuching:20241021T090000
DTEND;TZID=Asia/Kuching:20241023T170000
DTSTAMP:20260423T130158
CREATED:20240823T072926Z
LAST-MODIFIED:20240823T072926Z
UID:7368-1729501200-1729702800@gem.com.my
SUMMARY:Impactful Graphic Design with Canva Pro (Kuching)
DESCRIPTION:Early bird price until 7th October – RM 2490 \nNormal price – RM 2990
URL:https://gem.com.my/event/impactful-graphic-design-with-canva-pro-kuching/
LOCATION:GEM Consultancy Kuching\, Sarawak
CATEGORIES:Public Training
END:VEVENT
END:VCALENDAR