BEGIN:VCALENDAR
VERSION:2.0
PRODID:-//GEM Consultancy Sdn Bhd - ECPv5.14.2.1//NONSGML v1.0//EN
CALSCALE:GREGORIAN
METHOD:PUBLISH
X-WR-CALNAME:GEM Consultancy Sdn Bhd
X-ORIGINAL-URL:https://gem.com.my
X-WR-CALDESC:Events for GEM Consultancy Sdn Bhd
BEGIN:VTIMEZONE
TZID:Asia/Kuching
BEGIN:STANDARD
TZOFFSETFROM:+0800
TZOFFSETTO:+0800
TZNAME:+08
DTSTART:20250101T000000
END:STANDARD
END:VTIMEZONE
BEGIN:VEVENT
DTSTART;TZID=Asia/Kuching:20251020T090000
DTEND;TZID=Asia/Kuching:20251021T170000
DTSTAMP:20260421T044357
CREATED:20250809T044644Z
LAST-MODIFIED:20250903T132202Z
UID:7957-1760950800-1761066000@gem.com.my
SUMMARY:Influential Leadership for Peak Performance (Kuching\, Sarawak)
DESCRIPTION:Early bird price: RM 1980 (Until 6th October) \nNormal price: RM 2980
URL:https://gem.com.my/event/influential-leadership-for-peak-performance-kuching-sarawak/
LOCATION:GEM Consultancy Kuching\, Sarawak
CATEGORIES:Public Training
END:VEVENT
END:VCALENDAR