BEGIN:VCALENDAR
VERSION:2.0
PRODID:-//GEM Consultancy Sdn Bhd - ECPv5.14.2.1//NONSGML v1.0//EN
CALSCALE:GREGORIAN
METHOD:PUBLISH
X-WR-CALNAME:GEM Consultancy Sdn Bhd
X-ORIGINAL-URL:https://gem.com.my
X-WR-CALDESC:Events for GEM Consultancy Sdn Bhd
BEGIN:VTIMEZONE
TZID:Asia/Kuching
BEGIN:STANDARD
TZOFFSETFROM:+0800
TZOFFSETTO:+0800
TZNAME:+08
DTSTART:20250101T000000
END:STANDARD
END:VTIMEZONE
BEGIN:VEVENT
DTSTART;TZID=Asia/Kuching:20251117T090000
DTEND;TZID=Asia/Kuching:20251118T170000
DTSTAMP:20260421T173656
CREATED:20250912T032259Z
LAST-MODIFIED:20250912T032259Z
UID:7997-1763370000-1763485200@gem.com.my
SUMMARY:Introduction to AI Tools: Enhancing Office Productivity (Miri\, Sarawak)
DESCRIPTION:Early bird price: RM 1500 (Until 3rd November) \nNormal price: RM 1650
URL:https://gem.com.my/event/introduction-to-ai-tools-enhancing-office-productivity-miri-sarawak/
LOCATION:GEM Consultancy Miri\, Miri\, Sarawak\, 98000\, Malaysia
CATEGORIES:Public Training
END:VEVENT
END:VCALENDAR