BEGIN:VCALENDAR
VERSION:2.0
PRODID:-//GEM Consultancy Sdn Bhd - ECPv5.14.2.1//NONSGML v1.0//EN
CALSCALE:GREGORIAN
METHOD:PUBLISH
X-WR-CALNAME:GEM Consultancy Sdn Bhd
X-ORIGINAL-URL:https://gem.com.my
X-WR-CALDESC:Events for GEM Consultancy Sdn Bhd
BEGIN:VTIMEZONE
TZID:Asia/Kuching
BEGIN:STANDARD
TZOFFSETFROM:+0800
TZOFFSETTO:+0800
TZNAME:+08
DTSTART:20250101T000000
END:STANDARD
END:VTIMEZONE
BEGIN:VEVENT
DTSTART;TZID=Asia/Kuching:20250609T090000
DTEND;TZID=Asia/Kuching:20250609T120000
DTSTAMP:20260419T223801
CREATED:20250513T032522Z
LAST-MODIFIED:20250513T032522Z
UID:7811-1749459600-1749470400@gem.com.my
SUMMARY:NTWxGTW: Be a New but Professional HR (Sibu\, Sarawak)
DESCRIPTION:Free Admission\nRegister here – https://www.nationaltrainingweek.gov.my/courseDetails?courseId=18427
URL:https://gem.com.my/event/ntwxgtw-be-a-new-but-professional-hr-sibu-sarawak/
LOCATION:GEM Consultancy Sibu\, Sibu\, Sarawak\, Malaysia
END:VEVENT
END:VCALENDAR