BEGIN:VCALENDAR
VERSION:2.0
PRODID:-//GEM Consultancy Sdn Bhd - ECPv5.14.2.1//NONSGML v1.0//EN
CALSCALE:GREGORIAN
METHOD:PUBLISH
X-WR-CALNAME:GEM Consultancy Sdn Bhd
X-ORIGINAL-URL:https://gem.com.my
X-WR-CALDESC:Events for GEM Consultancy Sdn Bhd
BEGIN:VTIMEZONE
TZID:Asia/Kuching
BEGIN:STANDARD
TZOFFSETFROM:+0800
TZOFFSETTO:+0800
TZNAME:+08
DTSTART:20250101T000000
END:STANDARD
END:VTIMEZONE
BEGIN:VEVENT
DTSTART;TZID=Asia/Kuching:20251217T090000
DTEND;TZID=Asia/Kuching:20251217T170000
DTSTAMP:20260422T000551
CREATED:20251129T102349Z
LAST-MODIFIED:20251129T102349Z
UID:8114-1765962000-1765990800@gem.com.my
SUMMARY:Public Speaking with Confidence - A Coffee Talk (Kuching\, Sarawak)
DESCRIPTION:Free Admission \nLimited seats available
URL:https://gem.com.my/event/public-speaking-with-confidence-a-coffee-talk-kuching-sarawak/
LOCATION:GEM Consultancy Kuching\, Sarawak
CATEGORIES:Public Training
END:VEVENT
END:VCALENDAR